BEGIN:VCALENDAR
VERSION:2.0
PRODID:spatie/icalendar-generator
DESCRIPTION:Events from The Children&amp;#039\;s House Montessori School
X-WR-CALDESC:Events from The Children&amp;#039\;s House Montessori School
REFRESH-INTERVAL;VALUE=DURATION:PT1440M
X-PUBLISHED-TTL:PT1440M
BEGIN:VTIMEZONE
TZID:Australia/Sydney
BEGIN:STANDARD
DTSTART:20130407T030000Z
TZOFFSETFROM:+1100
TZOFFSETTO:+1000
END:STANDARD
BEGIN:DAYLIGHT
DTSTART:20131006T020000Z
TZOFFSETFROM:+1000
TZOFFSETTO:+1100
END:DAYLIGHT
END:VTIMEZONE
BEGIN:VTIMEZONE
TZID:UTC
BEGIN:STANDARD
DTSTART:20250728T161704Z
TZOFFSETFROM:+0000
TZOFFSETTO:+0000
END:STANDARD
END:VTIMEZONE
BEGIN:VEVENT
UID:47-36
DTSTAMP:20260424T161704Z
SUMMARY:Parent Information Evening
LOCATION:
ORGANIZER;CN=web@childrenshouse.com.au:MAILTO:web@childrenshouse.com.au
DTSTART;TZID=Australia/Sydney:20130905T193000
DTEND;TZID=Australia/Sydney:20130905T213000
X-ALT-DESC;FMTTYPE=TEXT/HTML:maths
CATEGORIES:General
URL;VALUE=URI:https://www.sydneymontessorisociety.nsw.edu.au/mc-events/pare
 nt-information-evening-4/
METHOD:PUBLISH
END:VEVENT
END:VCALENDAR